BEGIN:VCALENDAR
VERSION:2.0
PRODID:-//wp-events-plugin.com//7.2.3.1//EN
TZID:America/Chicago
X-WR-TIMEZONE:America/Chicago
BEGIN:VEVENT
UID:22@homeshowgardenpros.com
DTSTART;TZID=America/Chicago:20200201T140000
DTEND;TZID=America/Chicago:20200201T150000
DTSTAMP:20191218T213913Z
URL:https://homeshowgardenpros.com/events/andy-chidester-at-the-gardens-go
 ing-organic/
SUMMARY:Andy Chidester at The Gardens | Going Organic
DESCRIPTION:Learn from Andy from FoxFarm Soil & Fertilizer Co. as she share
 s great organic substitutions for fertilizing\, killing weeds\, fire ant c
 ontrol\, insect and disease prevention\, and much more.
CATEGORIES:Garden Pros Events
LOCATION:Enchanted Gardens\, 6420 Fm 359 Rd\, Richmond\, TX\, United States
X-APPLE-STRUCTURED-LOCATION;VALUE=URI;X-ADDRESS=6420 Fm 359 Rd\, Richmond\,
  TX\, United States;X-APPLE-RADIUS=100;X-TITLE=Enchanted Gardens:geo:0,0
END:VEVENT
BEGIN:VTIMEZONE
TZID:America/Chicago
X-LIC-LOCATION:America/Chicago
BEGIN:STANDARD
DTSTART:20191103T010000
TZOFFSETFROM:-0500
TZOFFSETTO:-0600
TZNAME:CST
END:STANDARD
END:VTIMEZONE
END:VCALENDAR